BEGIN:VCALENDAR
VERSION:2.0
PRODID:-//Mahamevnawa Buddhist Meditation Centre - ECPv4.6.22//NONSGML v1.0//EN
CALSCALE:GREGORIAN
METHOD:PUBLISH
X-WR-CALNAME:Mahamevnawa Buddhist Meditation Centre
X-ORIGINAL-URL:https://mahamevnawa.org.au
X-WR-CALDESC:Events for Mahamevnawa Buddhist Meditation Centre
BEGIN:VEVENT
DTSTART;TZID=UTC+10:20200301T063000
DTEND;TZID=UTC+10:20200301T163000
DTSTAMP:20200228T072444
CREATED:20170923T133246Z
LAST-MODIFIED:20200221T155554Z
UID:5412-1583044200-1583080200@mahamevnawa.org.au
SUMMARY:MONTHLY SIL PROGRAM
DESCRIPTION:
URL:https://mahamevnawa.org.au/event/monthly-sil-program/
LOCATION:Mahamevnawa Buddhist Meditation Centre\, 71 Monbulk Rd\,(Ormeau Road)\, Mt Evelyn\, Victoria\, 3796\, Australia
ATTACH;FMTTYPE=image/jpeg:https://mahamevnawa.org.au/wp-content/uploads/2020/02/WEB-7.jpg
END:VEVENT
BEGIN:VEVENT
DTSTART;TZID=UTC+10:20200307T160000
DTEND;TZID=UTC+10:20200307T183000
DTSTAMP:20200228T072444
CREATED:20170905T123201Z
LAST-MODIFIED:20200225T163800Z
UID:4938-1583596800-1583605800@mahamevnawa.org.au
SUMMARY:යොවුන් සදහම් හමුව - තාවතිංස යාත්‍රා
DESCRIPTION:
URL:https://mahamevnawa.org.au/event/thawathinsa-yathra/
LOCATION:Mahamevnawa Buddhist Meditation Centre\, 71 Monbulk Rd\,(Ormeau Road)\, Mt Evelyn\, Victoria\, 3796\, Australia
ATTACH;FMTTYPE=image/jpeg:https://mahamevnawa.org.au/wp-content/uploads/2020/02/Thawathinsa-Yathra-1.jpg
END:VEVENT
BEGIN:VEVENT
DTSTART;TZID=UTC+10:20200307T160000
DTEND;TZID=UTC+10:20200307T183000
DTSTAMP:20200228T072444
CREATED:20170923T223629Z
LAST-MODIFIED:20200225T163613Z
UID:5424-1583596800-1583605800@mahamevnawa.org.au
SUMMARY:DHAMMA SERMONS IN ENGLISH
DESCRIPTION:
URL:https://mahamevnawa.org.au/event/dhamma-sermons-in-english/
LOCATION:Mahamevnawa Buddhist Meditation Centre\, 71 Monbulk Rd\,(Ormeau Road)\, Mt Evelyn\, Victoria\, 3796\, Australia
ATTACH;FMTTYPE=image/jpeg:https://mahamevnawa.org.au/wp-content/uploads/2020/02/Youth-Programe-1.jpg
END:VEVENT
BEGIN:VEVENT
DTSTART;TZID=UTC+10:20200309T180000
DTEND;TZID=UTC+10:20200309T210000
DTSTAMP:20200228T072444
CREATED:20200221T160747Z
LAST-MODIFIED:20200221T162412Z
UID:7897-1583776800-1583787600@mahamevnawa.org.au
SUMMARY:වෙසක් පුණ්‍ය යාත්‍රා - වැඩසටහන 1
DESCRIPTION:
URL:https://mahamevnawa.org.au/event/%e0%b7%80%e0%b7%99%e0%b7%83%e0%b6%9a%e0%b7%8a-%e0%b6%b4%e0%b7%94%e0%b6%ab%e0%b7%8a%e2%80%8d%e0%b6%ba-%e0%b6%ba%e0%b7%8f%e0%b6%ad%e0%b7%8a%e2%80%8d%e0%b6%bb%e0%b7%8f-%e0%b7%80%e0%b7%90%e0%b6%a9/
LOCATION:Mahamevnawa Buddhist Meditation Centre\, 71 Monbulk Rd\,(Ormeau Road)\, Mt Evelyn\, Victoria\, 3796\, Australia
ATTACH;FMTTYPE=image/jpeg:https://mahamevnawa.org.au/wp-content/uploads/2020/02/Wesak-Punya-Yathra.jpg
ORGANIZER;CN="Mahamevnawa%20Buddhist%20Meditation%20Centre":MAILTO:info@mahamevnawa.org.au
END:VEVENT
BEGIN:VEVENT
DTSTART;TZID=UTC+10:20200314T180000
DTEND;TZID=UTC+10:20200314T210000
DTSTAMP:20200228T072444
CREATED:20200221T161444Z
LAST-MODIFIED:20200221T162535Z
UID:7900-1584208800-1584219600@mahamevnawa.org.au
SUMMARY:වෙසක් පුණ්‍ය යාත්‍රා - වැඩසටහන 2
DESCRIPTION:
URL:https://mahamevnawa.org.au/event/%e0%b7%80%e0%b7%99%e0%b7%83%e0%b6%9a%e0%b7%8a-%e0%b6%b4%e0%b7%94%e0%b6%ab%e0%b7%8a%e2%80%8d%e0%b6%ba-%e0%b6%ba%e0%b7%8f%e0%b6%ad%e0%b7%8a%e2%80%8d%e0%b6%bb%e0%b7%8f-%e0%b7%80%e0%b7%90%e0%b6%a9-2/
LOCATION:Dandenong North Senior Citizens Hall\, Latham Cres\, Dandenong North VIC 3175\, VIC\, 3175\, Australia
ATTACH;FMTTYPE=image/jpeg:https://mahamevnawa.org.au/wp-content/uploads/2020/02/Wesak-Punya-Yathra-1.jpg
END:VEVENT
BEGIN:VEVENT
DTSTART;TZID=UTC+10:20200321T180000
DTEND;TZID=UTC+10:20200321T210000
DTSTAMP:20200228T072444
CREATED:20200221T161633Z
LAST-MODIFIED:20200221T162650Z
UID:7902-1584813600-1584824400@mahamevnawa.org.au
SUMMARY:වෙසක් පුණ්‍ය යාත්‍රා - වැඩසටහන 3
DESCRIPTION:
URL:https://mahamevnawa.org.au/event/%e0%b7%80%e0%b7%99%e0%b7%83%e0%b6%9a%e0%b7%8a-%e0%b6%b4%e0%b7%94%e0%b6%ab%e0%b7%8a%e2%80%8d%e0%b6%ba-%e0%b6%ba%e0%b7%8f%e0%b6%ad%e0%b7%8a%e2%80%8d%e0%b6%bb%e0%b7%8f-%e0%b7%80%e0%b7%90%e0%b6%a9-3/
LOCATION:Ashwood Hall\, Asjwood Hall 214 A Electra Avenue\, Ashwood\, VIC\, 3147\, Australia
ATTACH;FMTTYPE=image/jpeg:https://mahamevnawa.org.au/wp-content/uploads/2020/02/Wesak-Punya-Yathra-2.jpg
END:VEVENT
BEGIN:VEVENT
DTSTART;TZID=UTC+10:20200322T170000
DTEND;TZID=UTC+10:20200322T190000
DTSTAMP:20200228T072444
CREATED:20170905T125232Z
LAST-MODIFIED:20200227T150603Z
UID:4949-1584896400-1584903600@mahamevnawa.org.au
SUMMARY:CRANBOURNE DHAMMA SERMONS
DESCRIPTION: \n
URL:https://mahamevnawa.org.au/event/cranbourne-dhamma-sermons/
LOCATION:Balla Balla Community Centre\, 65 Berwick (cranbourne road)\, Cranbourne East\, Victoria\, 3977\, Australia
ATTACH;FMTTYPE=image/jpeg:https://mahamevnawa.org.au/wp-content/uploads/2020/02/Cranbourne-1a.jpg
END:VEVENT
BEGIN:VEVENT
DTSTART;TZID=UTC+10:20200328T180000
DTEND;TZID=UTC+10:20200328T210000
DTSTAMP:20200228T072444
CREATED:20200225T131018Z
LAST-MODIFIED:20200225T131451Z
UID:8126-1585418400-1585429200@mahamevnawa.org.au
SUMMARY:වෙසක් පුණ්‍ය යාත්‍රා – වැඩසටහන 4
DESCRIPTION:
URL:https://mahamevnawa.org.au/event/%e0%b7%80%e0%b7%99%e0%b7%83%e0%b6%9a%e0%b7%8a-%e0%b6%b4%e0%b7%94%e0%b6%ab%e0%b7%8a%e2%80%8d%e0%b6%ba-%e0%b6%ba%e0%b7%8f%e0%b6%ad%e0%b7%8a%e2%80%8d%e0%b6%bb%e0%b7%8f-%e0%b7%80%e0%b7%90/
LOCATION:Oakgrove Community Centre\, 89-101 Oakgrove Dr\,\, Narre Warren South\, VIC\, 3805\, Australia
ATTACH;FMTTYPE=image/jpeg:https://mahamevnawa.org.au/wp-content/uploads/2020/02/Wesak-Punya-Yathra-3.jpg
END:VEVENT
BEGIN:VEVENT
DTSTART;TZID=UTC+10:20200411T180000
DTEND;TZID=UTC+10:20200411T210000
DTSTAMP:20200228T072444
CREATED:20200225T163404Z
LAST-MODIFIED:20200225T163404Z
UID:8130-1586628000-1586638800@mahamevnawa.org.au
SUMMARY:වෙසක් පුණ්‍ය යාත්‍රා – වැඩසටහන 5
DESCRIPTION:
URL:https://mahamevnawa.org.au/event/%e0%b7%80%e0%b7%99%e0%b7%83%e0%b6%9a%e0%b7%8a-%e0%b6%b4%e0%b7%94%e0%b6%ab%e0%b7%8a%e2%80%8d%e0%b6%ba-%e0%b6%ba%e0%b7%8f%e0%b6%ad%e0%b7%8a%e2%80%8d%e0%b6%bb%e0%b7%8f-%e0%b7%80%e0%b7%90-2/
LOCATION:Mahamevnawa Buddhist Meditation Centre\, 71 Monbulk Rd\,(Ormeau Road)\, Mt Evelyn\, Victoria\, 3796\, Australia
ATTACH;FMTTYPE=image/jpeg:https://mahamevnawa.org.au/wp-content/uploads/2020/02/Wesak-Punya-Yathra-4.jpg
END:VEVENT
END:VCALENDAR