BEGIN:VCALENDAR
VERSION:2.0
PRODID:-//Mahamevnawa Buddhist Meditation Centre - ECPv4.6.22//NONSGML v1.0//EN
CALSCALE:GREGORIAN
METHOD:PUBLISH
X-WR-CALNAME:Mahamevnawa Buddhist Meditation Centre
X-ORIGINAL-URL:https://mahamevnawa.org.au
X-WR-CALDESC:Events for Mahamevnawa Buddhist Meditation Centre
BEGIN:VEVENT
DTSTART;TZID=UTC+10:20191208T170000
DTEND;TZID=UTC+10:20191208T190000
DTSTAMP:20200228T080600
CREATED:20170905T124132Z
LAST-MODIFIED:20191202T224559Z
UID:4942-1575824400-1575831600@mahamevnawa.org.au
SUMMARY:NOTTING HILL DHAMMA SERMONS
DESCRIPTION:
URL:https://mahamevnawa.org.au/event/notting-hill-dhamma-sermons/
LOCATION:Notting Hill Neigbourhood House\, 37 Westerfield Drive\, Notting Hill\, Victoria\, 3168\, Australia
ATTACH;FMTTYPE=image/jpeg:https://mahamevnawa.org.au/wp-content/uploads/2019/12/Nottinhill-1.jpg
ORGANIZER;CN="Mahamevnawa%20Buddhist%20Meditation%20Centre":MAILTO:info@mahamevnawa.org.au
END:VEVENT
END:VCALENDAR